BEGIN:VCALENDAR
VERSION:2.0
PRODID:-//Stratis iCal API//FR
CALSCALE:GREGORIAN
X-WR-CALNAME:Les Initiales du BTP
BEGIN:VEVENT
UID:event-842
SUMMARY:Les Initiales du BTP
DESCRIPTION:Participez à la deuxième édition des Initiales du BTP  organisées par le CCCA‑BTP  au CNIT Forest  la Défense.
DTSTAMP:20260309T153238Z
DTSTART:20270309T090000Z
DTEND:20270309T170000Z
STATUS:CONFIRMED
SEQUENCE:3
BEGIN:VALARM
TRIGGER:-PT30M
DESCRIPTION:Les Initiales du BTP
ACTION:DISPLAY
END:VALARM
END:VEVENT
END:VCALENDAR